BEGIN:VCALENDAR
VERSION:2.0
PRODID:-//ChamberMaster//Event Calendar 2.0//EN
METHOD:PUBLISH
X-PUBLISHED-TTL:P3D
REFRESH-INTERVAL:P3D
CALSCALE:GREGORIAN
BEGIN:VEVENT
DTSTART:20181026T200000Z
DTEND:20181026T230000Z
X-MICROSOFT-CDO-ALLDAYEVENT:FALSE
SUMMARY:Pig Pickin'
DESCRIPTION:Commonwealth Senior Living is hosting a Pig Pickin' in appreciation of our First Responders\, Police\, Veterans and ALL WHO SERVE.\n\nFood served at 5 PM. Presentations to those who serve at 6 PM. Please stay and enjoy the live music throughout the evening!\n\nRSVP (434) 575-5400
X-ALT-DESC;FMTTYPE=text/html:Commonwealth Senior Living is hosting a Pig Pickin&#39\; in appreciation of our First Responders\, Police\, Veterans and ALL WHO SERVE.<br />\nFood served at 5 PM. Presentations to those who serve at 6 PM. Please stay and enjoy the live music throughout the evening!<br />\nRSVP (434) 575-5400&nbsp\;
LOCATION:Commonwealth Senior Living
UID:e.845.8553
SEQUENCE:3
DTSTAMP:20260421T171021Z
URL:https://business.halifaxchamber.net/events/details/pig-pickin-8553
END:VEVENT

END:VCALENDAR
