BEGIN:VCALENDAR
VERSION:2.0
PRODID:-//ChamberMaster//Event Calendar 2.0//EN
METHOD:PUBLISH
X-PUBLISHED-TTL:P3D
REFRESH-INTERVAL:P3D
CALSCALE:GREGORIAN
BEGIN:VEVENT
DTSTART;VALUE=DATE:20170429
DTEND;VALUE=DATE:20170501
TRANSP:TRANSPARENT
X-MICROSOFT-CDO-ALLDAYEVENT:TRUE
SUMMARY:Pirelli World Challenge
DESCRIPTION:Pirelli World Challenge is a North American auto racing series that is managed by WC Vision and sanctioned by the Sports Car Club of America (SCCA). The World Challenge series was born in 1990\, and celebrated its 25th anniversary season in 2014. The series consists of seven driver classifications and six classes of vehicles: Grand Touring (GT)\, GT Cup (new for 2015   for Porsche 991 Cup cars)\, GTS\, Touring Car (TC)\, "Touring Car B-spec" (TCB) since 2012\, and "Touring Car A" (TCA)\, new in 2014. In 2014\, a new GTA driver classification was established for professional drivers that do not make their living primarily from racing.
X-ALT-DESC;FMTTYPE=text/html:<strong>Pirelli World Challenge</strong><span style="color:rgb(0\, 0\, 0)\; font-family:helveticaneue-light\,helvetica neue light\,helvetica neue\,helvetica\,arial\,lucida grande\,sans-serif\; font-size:16px">&nbsp\;is a North American auto racing series that is managed by WC Vision and sanctioned by the Sports Car Club of America (SCCA). The World Challenge series was born in 1990\, and celebrated its 25th anniversary season in 2014. The series consists of seven driver classifications and six classes of vehicles: Grand Touring (GT)\, GT Cup (new for 2015 &ndash\; for Porsche 991 Cup cars)\, GTS\, Touring Car (TC)\, &ldquo\;Touring Car B-spec&rdquo\; (TCB) since 2012\, and &ldquo\;Touring Car A&rdquo\; (TCA)\, new in 2014. In 2014\, a new GTA driver classification was established for professional drivers that do not make their living primarily from racing.</span>
LOCATION:VIRginia International Raceway 1245 Pine Tree Road Alton\, VA 24520
UID:e.845.5757
SEQUENCE:3
DTSTAMP:20260424T131442Z
URL:https://business.halifaxchamber.net/events/details/pirelli-world-challenge-5757
END:VEVENT

END:VCALENDAR
