BEGIN:VCALENDAR
VERSION:2.0
PRODID:-//ChamberMaster//Event Calendar 2.0//EN
METHOD:PUBLISH
X-PUBLISHED-TTL:P3D
REFRESH-INTERVAL:P3D
CALSCALE:GREGORIAN
BEGIN:VEVENT
DTSTART;VALUE=DATE:20180427
DTEND;VALUE=DATE:20180430
TRANSP:TRANSPARENT
X-MICROSOFT-CDO-ALLDAYEVENT:TRUE
SUMMARY:Pirelli World Challenge
DESCRIPTION:Pirelli World Challenge is a North American auto racing series that is managed by WC Vision and sanctioned by the United States Auto Club (USAC). The World Challenge series was born in 1990\, and celebrated its 25th anniversary season in 2014. The series consists of seven driver classifications and six classes of vehicles: Grand Touring (GT)\, GT Cup (new for 2015   for Porsche 991 Cup cars)\, GTS\, Touring Car (TC)\, "Touring Car B-spec" (TCB) since 2012\, and "Touring Car A" (TCA)\, new in 2014. In 2014\, a new GTA driver classification was established for professional drivers that do not make their living primarily from racing.\n\nRadical Sportscars Series\, as well as F4 and F3\, will be support events running during Pirelli World Challenge weekend.\n\nAll current military will be admitted free and veterans will receive a 50% discount to ALL VIR events. Children 16 and under are always free with a paying adult and there is no cost for parking.
X-ALT-DESC;FMTTYPE=text/html:<p style="box-sizing: border-box\; margin: 1em 0px\; hyphens: none\; line-height: 1.5em\; color: rgb(0\, 0\, 0)\; font-family: HelveticaNeue-Light\, &quot\;Helvetica Neue Light&quot\;\, &quot\;Helvetica Neue&quot\;\, Helvetica\, Arial\, &quot\;Lucida Grande&quot\;\, sans-serif\; font-size: 16px\;"><b style="box-sizing: border-box\;">Pirelli World Challenge</b>&nbsp\;is a North American auto racing series that is managed by WC Vision and sanctioned by the United States Auto Club (USAC). The World Challenge series was born in 1990\, and celebrated its 25th anniversary season in 2014. The series consists of seven driver classifications and six classes of vehicles: Grand Touring (GT)\, GT Cup (new for 2015 &ndash\; for Porsche 991 Cup cars)\, GTS\, Touring Car (TC)\, &ldquo\;Touring Car B-spec&rdquo\; (TCB) since 2012\, and &ldquo\;Touring Car A&rdquo\; (TCA)\, new in 2014. In 2014\, a new GTA driver classification was established for professional drivers that do not make their living primarily from racing.</p>\n\n<p style="box-sizing: border-box\; margin: 1em 0px\; hyphens: none\; line-height: 1.5em\; color: rgb(0\, 0\, 0)\; font-family: HelveticaNeue-Light\, &quot\;Helvetica Neue Light&quot\;\, &quot\;Helvetica Neue&quot\;\, Helvetica\, Arial\, &quot\;Lucida Grande&quot\;\, sans-serif\; font-size: 16px\;"><a href="https://www.radicalsportscars.com/" style="box-sizing: border-box\; transition: all 0.3s\; color: rgb(0\, 105\, 64)\; -webkit-tap-highlight-color: rgba(0\, 0\, 0\, 0.3)\;" target="_blank">Radical Sportscars</a>&nbsp\;Series\, as well as&nbsp\;<a href="https://www.f4uschampionship.com/" style="box-sizing: border-box\; transition: all 0.3s\; color: rgb(0\, 105\, 64)\; -webkit-tap-highlight-color: rgba(0\, 0\, 0\, 0.3)\;" target="_blank">F4</a>&nbsp\;and&nbsp\;<a href="https://en.wikipedia.org/wiki/Formula_Three" style="box-sizing: border-box\; transition: all 0.3s\; color: rgb(0\, 105\, 64)\; -webkit-tap-highlight-color: rgba(0\, 0\, 0\, 0.3)\;" target="_blank">F3</a>\, will be support events running during Pirelli World Challenge weekend.</p>\n\n<p style="box-sizing: border-box\; margin: 1em 0px\; hyphens: none\; line-height: 1.5em\; color: rgb(0\, 0\, 0)\; font-family: HelveticaNeue-Light\, &quot\;Helvetica Neue Light&quot\;\, &quot\;Helvetica Neue&quot\;\, Helvetica\, Arial\, &quot\;Lucida Grande&quot\;\, sans-serif\; font-size: 16px\;"><strong style="box-sizing: border-box\;">All current military will be admitted free and veterans will receive a 50% discount to ALL VIR events. Children 16 and under are always free with a paying adult and there is no cost for parking.</strong></p>\n
LOCATION:VIRginia International Raceway 1245 Pine Tree Road Alton\, VA
UID:e.845.7203
SEQUENCE:3
DTSTAMP:20260422T033136Z
URL:https://business.halifaxchamber.net/events/details/pirelli-world-challenge-7203
END:VEVENT

END:VCALENDAR
