BEGIN:VCALENDAR
VERSION:2.0
PRODID:-//ChamberMaster//Event Calendar 2.0//EN
METHOD:PUBLISH
X-PUBLISHED-TTL:P3D
REFRESH-INTERVAL:P3D
CALSCALE:GREGORIAN
BEGIN:VEVENT
DTSTART:20201223T190000Z
DTEND:20201224T030000Z
X-MICROSOFT-CDO-ALLDAYEVENT:FALSE
SUMMARY:PJ Bowling Party
DESCRIPTION:Come in your pajamas for some Christmas Fun!\n\nCosmic Bowling\, Christmas Music & Holiday Cheer!\n\n$15 per lane per hour\n\n$3.50 Shoes or pay $5 and receive a $5 arcade card plus your shoes.\n\nDue to COVID we are currently skipping a lane in between each group. Groups must be 25 or less.
X-ALT-DESC;FMTTYPE=text/html:<div class="kvgmc6g5 cxmmr5t8 oygrvhab hcukyx3x c1et5uql" style="overflow-wrap: break-word\; margin: 0px\; font-family: system-ui\, -apple-system\, system-ui\, &quot\;.SFNSText-Regular&quot\;\, sans-serif\; color: rgb(5\, 5\, 5)\; font-size: 15px\;">Come in your pajamas for some Christmas Fun!</div>\n\n<div class="o9v6fnle cxmmr5t8 oygrvhab hcukyx3x c1et5uql" style="overflow-wrap: break-word\; margin: 0.5em 0px 0px\; font-family: system-ui\, -apple-system\, system-ui\, &quot\;.SFNSText-Regular&quot\;\, sans-serif\; color: rgb(5\, 5\, 5)\; font-size: 15px\;">Cosmic Bowling\, Christmas Music &amp\; Holiday Cheer!</div>\n\n<div class="o9v6fnle cxmmr5t8 oygrvhab hcukyx3x c1et5uql" style="overflow-wrap: break-word\; margin: 0.5em 0px 0px\; font-family: system-ui\, -apple-system\, system-ui\, &quot\;.SFNSText-Regular&quot\;\, sans-serif\; color: rgb(5\, 5\, 5)\; font-size: 15px\;">$15 per lane per hour<br />\n$3.50 Shoes or pay $5 and receive a $5 arcade card plus your shoes.<br />\nDue to COVID we are currently skipping a lane in between each group. Groups must be 25 or less.</div>\n
LOCATION:World of Sports 2030 Bill Tuck Hwy South Boston\, VA 24592
UID:e.845.17818
SEQUENCE:3
DTSTAMP:20260419T215601Z
URL:https://business.halifaxchamber.net/events/details/pj-bowling-party-17818
END:VEVENT

END:VCALENDAR
