BEGIN:VCALENDAR
VERSION:2.0
PRODID:-//ChamberMaster//Event Calendar 2.0//EN
METHOD:PUBLISH
X-PUBLISHED-TTL:P3D
REFRESH-INTERVAL:P3D
CALSCALE:GREGORIAN
BEGIN:VEVENT
DTSTART:20190416T230000Z
DTEND:20190417T000000Z
X-MICROSOFT-CDO-ALLDAYEVENT:FALSE
SUMMARY:Planning Commission Public Hearing
DESCRIPTION:Hearing scheduled on a conditional use permit application requested by Maurice A. Riddle Jr. and Bonnie Fisher Riddle to locate a Lab Powder Coating business at 1062 Thornton Jim Trail in Nathalie.
X-ALT-DESC;FMTTYPE=text/html:Hearing scheduled on a conditional use permit application requested by Maurice A. Riddle Jr. and Bonnie Fisher Riddle to locate a Lab Powder Coating business at 1062 Thornton Jim Trail in Nathalie.
LOCATION:Second Floor conference room in the Mary Bethune Office Complex in Halifax
UID:e.845.12436
SEQUENCE:3
DTSTAMP:20260421T093527Z
URL:https://business.halifaxchamber.net/events/details/planning-commission-public-hearing-12436
END:VEVENT

END:VCALENDAR
