BEGIN:VCALENDAR
VERSION:2.0
PRODID:-//ChamberMaster//Event Calendar 2.0//EN
METHOD:PUBLISH
X-PUBLISHED-TTL:P3D
REFRESH-INTERVAL:P3D
CALSCALE:GREGORIAN
BEGIN:VEVENT
DTSTART:20170311T150000Z
DTEND:20170311T170000Z
X-MICROSOFT-CDO-ALLDAYEVENT:FALSE
SUMMARY:Plant a Flower Day
DESCRIPTION:National Plant a Flower Day is March 12th. The Town of Halifax Farmers Market will celebrate his day on March 11th with free seed planting for all kids.
X-ALT-DESC;FMTTYPE=text/html:National Plant a Flower Day is March 12th. The Town of Halifax Farmers Market will celebrate his day on March 11th&nbsp\;with free seed planting for all kids.<br />\n<br />\n&nbsp\;
LOCATION:Town of Halifax Farmers Market 209 S Main St. Halifax\, VA
UID:e.845.5831
SEQUENCE:3
DTSTAMP:20260424T132548Z
URL:https://business.halifaxchamber.net/events/details/plant-a-flower-day-5831
END:VEVENT

END:VCALENDAR
