BEGIN:VCALENDAR
VERSION:2.0
PRODID:-//ChamberMaster//Event Calendar 2.0//EN
METHOD:PUBLISH
X-PUBLISHED-TTL:P3D
REFRESH-INTERVAL:P3D
CALSCALE:GREGORIAN
BEGIN:VEVENT
DTSTART:20200125T153000Z
DTEND:20200125T163000Z
X-MICROSOFT-CDO-ALLDAYEVENT:FALSE
SUMMARY:Poolside Flow Yoga
DESCRIPTION:Join us for one hour of wellness and poolside yoga at Berry Hill Resort!\n\nPlease sign up at the Spa 15 minutes before class begins.
X-ALT-DESC;FMTTYPE=text/html:Join us for one hour of wellness and poolside yoga at Berry Hill Resort!<br />\n<span style="color: rgb(29\, 33\, 41)\; font-family: system-ui\, -apple-system\, system-ui\, &quot\;.SFNSText-Regular&quot\;\, sans-serif\; font-size: 14px\; white-space: pre-wrap\;">Please sign up at the Spa 15 minutes before class begins.</span>
LOCATION:3105 River Road South Boston\, VA 24592
UID:e.845.17457
SEQUENCE:3
DTSTAMP:20260420T165231Z
URL:https://business.halifaxchamber.net/events/details/poolside-flow-yoga-17457
END:VEVENT

END:VCALENDAR
