BEGIN:VCALENDAR
VERSION:2.0
PRODID:-//ChamberMaster//Event Calendar 2.0//EN
METHOD:PUBLISH
X-PUBLISHED-TTL:P3D
REFRESH-INTERVAL:P3D
CALSCALE:GREGORIAN
BEGIN:VEVENT
DTSTART:20200805T140000Z
DTEND:20200805T180000Z
X-MICROSOFT-CDO-ALLDAYEVENT:FALSE
SUMMARY:Pop-Up Job Fair
DESCRIPTION:Immediate Openings:\n\n	Warehouse Workers\n	Experienced Medical Administrative Assistant\n	Experienced Electrical Helpers\n	Experienced Forklift\, Pallet Jack\, Clamp Truck Associate\n	Experienced Pick/Pack Associates\n\nGas Gift Card Giveaways!
X-ALT-DESC;FMTTYPE=text/html:Immediate Openings:\n<ul>\n	<li>Warehouse Workers</li>\n	<li>Experienced Medical Administrative Assistant</li>\n	<li>Experienced Electrical Helpers</li>\n	<li>Experienced Forklift\, Pallet Jack\, Clamp Truck Associate</li>\n	<li>Experienced Pick/Pack Associates</li>\n</ul>\nGas Gift Card Giveaways!
LOCATION:4130 Halifax Road South Boston\, VA 24592
UID:e.845.17726
SEQUENCE:3
DTSTAMP:20260420T050348Z
URL:https://business.halifaxchamber.net/events/details/pop-up-job-fair-17726
END:VEVENT

END:VCALENDAR
