BEGIN:VCALENDAR
VERSION:2.0
PRODID:-//ChamberMaster//Event Calendar 2.0//EN
METHOD:PUBLISH
X-PUBLISHED-TTL:P3D
REFRESH-INTERVAL:P3D
CALSCALE:GREGORIAN
BEGIN:VEVENT
DTSTART:20190423T123000Z
DTEND:20190423T140000Z
X-MICROSOFT-CDO-ALLDAYEVENT:FALSE
SUMMARY:Post-Legislative Breakfast
DESCRIPTION:The Halifax County Chamber of Commerce invites you to attend a Post-Legislative Breakfast\n\nTuesday\, April 23\, 2019\n\n8:30 am\n\nBusiness and community leaders will have the opportunity to hear from our state legislative delegation and state leaders about their perspectives on issues and key legislation from the 2019 General Assembly session.\n\n\n\nCo-hosted by: Southern Virginia Higher Education Center
X-ALT-DESC;FMTTYPE=text/html:<p><strong>The Halifax County Chamber of Commerce invites you to attend a Post-Legislative Breakfast</strong></p>\n\n<p style="margin-left: 0px\; margin-right: 0px\;"><strong>Tuesday\, April 23\, 2019</strong></p>\n\n<p style="margin-left: 0px\; margin-right: 0px\;"><strong>8:30 am</strong></p>\n\n<p style="margin-left: 0px\; margin-right: 0px\;"><strong>Business and community leaders will have the opportunity to hear from our state legislative delegation and state leaders about their perspectives on issues and key legislation from the 2019 General Assembly session.<br />\n<br />\nCo-hosted by: Southern Virginia Higher Education Center</strong></p>\n
LOCATION:The Prizery 700 Bruce Street South Boston\, VA
UID:e.845.12400
SEQUENCE:3
DTSTAMP:20260421T075552Z
URL:https://business.halifaxchamber.net/events/details/post-legislative-breakfast-12400
END:VEVENT

END:VCALENDAR
