BEGIN:VCALENDAR
VERSION:2.0
PRODID:-//ChamberMaster//Event Calendar 2.0//EN
METHOD:PUBLISH
X-PUBLISHED-TTL:P3D
REFRESH-INTERVAL:P3D
CALSCALE:GREGORIAN
BEGIN:VEVENT
DTSTART:20200528T130000Z
DTEND:20200528T140000Z
X-MICROSOFT-CDO-ALLDAYEVENT:FALSE
SUMMARY:PPP Loan Documentation - Are You Ready?
DESCRIPTION:Sheri McGuire\, Executive Director of the Longwood Small Business Development Center and Teresa Davis\, CPA at Hill & Davis will host a Finance/Accounting Roundtable discussion on the Paycheck Protection Program (PPP) Loan Documentation.\n\nSpeaker(s): Presented by Sheri McGuire\, Executive Director\, Longwood SBDC\; Teresa Davis\, CPA\, Hill & Davis
X-ALT-DESC;FMTTYPE=text/html:<span style="color: rgb(0\, 0\, 0)\; font-family: Verdana\, sans-serif\; font-size: 16px\; white-space: pre-wrap\; background-color: rgb(250\, 250\, 250)\;">Sheri McGuire\, Executive Director of the Longwood Small Business Development Center and Teresa Davis\, CPA at Hill &amp\; Davis will host a Finance/Accounting Roundtable discussion on the Paycheck Protection Program (PPP) Loan Documentation.<br />\nSpeaker(s): Presented by Sheri McGuire\, Executive Director\, Longwood SBDC\; Teresa Davis\, CPA\, Hill &amp\; Davis</span>
LOCATION:Register at: https://clients.virginiasbdc.org/workshop.aspx?ekey=90400021
UID:e.845.17608
SEQUENCE:3
DTSTAMP:20260420T100032Z
URL:https://business.halifaxchamber.net/events/details/ppp-loan-documentation-are-you-ready-17608
END:VEVENT

END:VCALENDAR
