BEGIN:VCALENDAR
VERSION:2.0
PRODID:-//ChamberMaster//Event Calendar 2.0//EN
METHOD:PUBLISH
X-PUBLISHED-TTL:P3D
REFRESH-INTERVAL:P3D
CALSCALE:GREGORIAN
BEGIN:VEVENT
DTSTART:20200410T123000Z
DTEND:20200410T190000Z
X-MICROSOFT-CDO-ALLDAYEVENT:FALSE
SUMMARY:Pre-Kindergarten Screening
DESCRIPTION:Halifax County Public Schools will offer free Pre-Kindergarten classes for 4-year olds on March 13th & 20th\, and April 3rd & 10th.  Classes will operate during school hours.  To be eligible for these programs\, a child must be four years old by September 30\, 2020 and must be considered in greatest need. \n\n\n\nNeeded at appointment: Child's birth certificate\, current physical and immunization records\, proof of income\n\n\n\nCall the school in your attendance zone to schedule an appointment to come in for screening.\n\n\n\nScreenings will be held at the following sites:\n\nClays Mill Elementary 476-3022\n\nCluster Springs Elementary 517-2600\n\nMeadville Elementary 349-1012\n\nScottsburg Elementary 454-6454\n\nSinai Elementary 476-6193\n\nSouth Boston Early Learning Center 572-4273\n\nSydnor Jennings Elementary 349-1013
X-ALT-DESC;FMTTYPE=text/html:Halifax County Public Schools will offer free Pre-Kindergarten classes for 4-year olds on March 13th &amp\; 20th\, and April 3rd &amp\; 10th.&nbsp\; Classes will operate during school hours.&nbsp\; To be eligible for these programs\, a child must be four years old by September 30\, 2020 and must be considered in greatest need.&nbsp\;<br />\n<br />\n<u>Needed at appointment: </u>Child&#39\;s birth certificate\, current physical and immunization records\, proof of income<br />\n<br />\nCall the school in your attendance zone to schedule an appointment to come in for screening.<br />\n<br />\nScreenings will be held at the following sites:<br />\n<em>Clays Mill Elementary 476-3022<br />\nCluster Springs Elementary 517-2600<br />\nMeadville Elementary 349-1012<br />\nScottsburg Elementary 454-6454<br />\nSinai Elementary 476-6193<br />\nSouth Boston Early Learning Center 572-4273<br />\nSydnor Jennings Elementary 349-1013</em><br />\n<br />\n&nbsp\;
LOCATION:
UID:e.845.17510
SEQUENCE:3
DTSTAMP:20260420T114241Z
URL:https://business.halifaxchamber.net/events/details/pre-kindergarten-screening-17510
END:VEVENT

END:VCALENDAR
