BEGIN:VCALENDAR
VERSION:2.0
PRODID:-//ChamberMaster//Event Calendar 2.0//EN
METHOD:PUBLISH
X-PUBLISHED-TTL:P3D
REFRESH-INTERVAL:P3D
CALSCALE:GREGORIAN
BEGIN:VEVENT
DTSTART:20210605T150000Z
DTEND:20210606T200000Z
X-MICROSOFT-CDO-ALLDAYEVENT:FALSE
SUMMARY:Precious Memories - How They Linger: Quarter Place Cemetery Dedication & Remembrance Ceremony
DESCRIPTION:Join Patrick Henry's Red Hill and members of the local African American community in a dedication of the Quarter Place Cemetery in remembrance of the enslaved population of Red Hill and their descendants.
X-ALT-DESC;FMTTYPE=text/html:<span style="color: rgb(20\, 24\, 39)\; font-family: &quot\;Helvetica Neue&quot\;\, Helvetica\, -apple-system\, system-ui\, Roboto\, Arial\, sans-serif\; font-size: 14px\;">Join Patrick Henry&#39\;s Red Hill and members of the local African American community in a dedication of the Quarter Place Cemetery in remembrance of the enslaved population of Red Hill and their descendants.</span>
LOCATION:Red Hill 1250 Red Hill Rd. Brookneal\, VA
UID:e.845.18021
SEQUENCE:3
DTSTAMP:20260419T124147Z
URL:https://business.halifaxchamber.net/events/details/precious-memories-how-they-linger-quarter-place-cemetery-dedication-remembrance-ceremony-18021
END:VEVENT

END:VCALENDAR
