BEGIN:VCALENDAR
VERSION:2.0
PRODID:-//ChamberMaster//Event Calendar 2.0//EN
METHOD:PUBLISH
X-PUBLISHED-TTL:P3D
REFRESH-INTERVAL:P3D
CALSCALE:GREGORIAN
BEGIN:VEVENT
DTSTART:20190209T193000Z
DTEND:20190209T210000Z
X-MICROSOFT-CDO-ALLDAYEVENT:FALSE
SUMMARY:Prepared Childbirth Class Sentara Halifax Regional
DESCRIPTION:Moms-to-be and their birthing partners learn how to work together to have a positive birthing experience. Class includes discussion of relaxation techniques\, anesthesia\, and postpartum adjustments\, as well a tour of the Family Birthing Center at Sentara Halifax Regional Hospital. To register\, call 434-514-3336
X-ALT-DESC;FMTTYPE=text/html:Moms-to-be and their birthing partners learn how to work together to have a positive birthing experience. Class includes discussion of relaxation techniques\, anesthesia\, and postpartum adjustments\, as well a tour of the Family Birthing Center at Sentara Halifax Regional Hospital. To register\, call 434-514-3336
LOCATION:Sentara Halifax Regional Hospital
UID:e.845.12007
SEQUENCE:3
DTSTAMP:20260421T110105Z
URL:https://business.halifaxchamber.net/events/details/prepared-childbirth-class-sentara-halifax-regional-12007
END:VEVENT

END:VCALENDAR
