BEGIN:VCALENDAR
VERSION:2.0
PRODID:-//ChamberMaster//Event Calendar 2.0//EN
METHOD:PUBLISH
X-PUBLISHED-TTL:P3D
REFRESH-INTERVAL:P3D
CALSCALE:GREGORIAN
BEGIN:VEVENT
DTSTART:20170922T233000Z
DTEND:20170923T010000Z
X-MICROSOFT-CDO-ALLDAYEVENT:FALSE
SUMMARY:Prizery Voice Competition
DESCRIPTION:The Prizery will present the first ever Prizery Voice Competition on Friday and Saturday September 22 & 23\, 7:30PM. The Friday event will serve as a preliminary competition\, ending up with 15 participants who will compete in the final round of competition on Saturday night.\n\n\n\nOnly 30 students from 2nd grade to 12th grade will be able to compete. Only the first 30 applications will be accepted. Pick up application at the Prizery - $25 registration fee must accompany the application when it is returned. \n\n\n\nSongs can be from any style of music such as Gospel\, Country\, Musical Theatre\, Jazz or Classical. The accompaniment for the music must be on CD or jump drive and received by The Prizery the week before the event. Pick up your application at The Prizery box-office between 9-5 M-F.
X-ALT-DESC;FMTTYPE=text/html:The Prizery will present the first ever Prizery&nbsp\;Voice Competition on Friday and Saturday September 22 &amp\; 23\, 7:30PM. The Friday event will serve as a preliminary competition\, ending up with 15 participants who will compete in the final round of competition on Saturday night.<br />\n<br />\nOnly 30 students from 2nd grade to 12th grade will be able to compete. Only the first 30 applications will be accepted. Pick up application at the Prizery - $25 registration fee must accompany the application when it is returned.&nbsp\;<br />\n<br />\nSongs can be from any style of music such as Gospel\, Country\, Musical Theatre\, Jazz or Classical. The accompaniment for the music must be on CD or jump drive and received by The Prizery&nbsp\;the week before the event. Pick up your application at The Prizery&nbsp\;box-office between 9-5 M-F.
LOCATION:The Prizery 700 Bruce Street South Boston\, VA
UID:e.845.7081
SEQUENCE:3
DTSTAMP:20260422T154011Z
URL:https://business.halifaxchamber.net/events/details/prizery-voice-competition-7081
END:VEVENT

END:VCALENDAR
