BEGIN:VCALENDAR
VERSION:2.0
PRODID:-//ChamberMaster//Event Calendar 2.0//EN
METHOD:PUBLISH
X-PUBLISHED-TTL:P3D
REFRESH-INTERVAL:P3D
CALSCALE:GREGORIAN
BEGIN:VEVENT
DTSTART:20180619T160000Z
DTEND:20180619T170000Z
X-MICROSOFT-CDO-ALLDAYEVENT:FALSE
SUMMARY:Professional Development Luncheon
DESCRIPTION:HYPE invites you to meet the President of Sentara Halifax Regional Hospital\, Mr. Jason Studley\, and discover his visions for the future. Learn how his achievements and dedication lead him to where he is today.
X-ALT-DESC;FMTTYPE=text/html:HYPE invites you to meet the President of Sentara Halifax Regional Hospital\, Mr. Jason Studley\, and discover his visions for the future. Learn how his achievements and dedication lead him to where he is today.
LOCATION:Leggett Auditorium at Sentara Halifax Regional Hospital
UID:e.845.8460
SEQUENCE:3
DTSTAMP:20260422T000300Z
URL:https://business.halifaxchamber.net/events/details/professional-development-luncheon-8460
END:VEVENT

END:VCALENDAR
