BEGIN:VCALENDAR
VERSION:2.0
PRODID:-//ChamberMaster//Event Calendar 2.0//EN
METHOD:PUBLISH
X-PUBLISHED-TTL:P3D
REFRESH-INTERVAL:P3D
CALSCALE:GREGORIAN
BEGIN:VEVENT
DTSTART:20170425T130000Z
DTEND:20170425T150000Z
X-MICROSOFT-CDO-ALLDAYEVENT:FALSE
SUMMARY:Project Impact
DESCRIPTION:Project IMPACT strives to reduce and prevent unintentional injuries through a student targeted injury and violence prevention program that provides education and awareness about the realities of trauma. \n\n\n\nJoin us at the Tuck Dillard Stadium Tuesday\, April 25th where students will engage in a mock scenarios with clinical\, fire and police volunteers.
X-ALT-DESC;FMTTYPE=text/html:Project IMPACT strives to reduce and prevent unintentional injuries through a student targeted injury and violence prevention program that provides education and awareness about the realities of trauma.&nbsp\;<br />\n<br />\nJoin us at the Tuck Dillard Stadium Tuesday\, April 25th&nbsp\;where students will engage in a mock scenarios with clinical\, fire and police volunteers.&nbsp\;
LOCATION:Tuck Dillard Stadium South Boston\, VA
UID:e.845.5800
SEQUENCE:3
DTSTAMP:20260424T113507Z
URL:https://business.halifaxchamber.net/events/details/project-impact-5800
END:VEVENT

END:VCALENDAR
