BEGIN:VCALENDAR
VERSION:2.0
PRODID:-//ChamberMaster//Event Calendar 2.0//EN
METHOD:PUBLISH
X-PUBLISHED-TTL:P3D
REFRESH-INTERVAL:P3D
CALSCALE:GREGORIAN
BEGIN:VEVENT
DTSTART:20200206T150000Z
DTEND:20200206T153000Z
X-MICROSOFT-CDO-ALLDAYEVENT:FALSE
SUMMARY:Public Auction
DESCRIPTION:There will be a public auction of storage unit B3-5 at Cozy Cave Self Storage located at 306 Webster Street.
X-ALT-DESC;FMTTYPE=text/html:There will be a public auction of storage unit B3-5 at Cozy Cave Self Storage located at 306 Webster Street.&nbsp\;
LOCATION:
UID:e.845.17480
SEQUENCE:3
DTSTAMP:20260420T164618Z
URL:https://business.halifaxchamber.net/events/details/public-auction-17480
END:VEVENT

END:VCALENDAR
