BEGIN:VCALENDAR
VERSION:2.0
PRODID:-//ChamberMaster//Event Calendar 2.0//EN
METHOD:PUBLISH
X-PUBLISHED-TTL:P3D
REFRESH-INTERVAL:P3D
CALSCALE:GREGORIAN
BEGIN:VEVENT
DTSTART:20190323T010000Z
DTEND:20190323T050000Z
X-MICROSOFT-CDO-ALLDAYEVENT:FALSE
SUMMARY:Public Consumption
DESCRIPTION:local favorites playing all your favorite tunes\, where your dancing shoes
X-ALT-DESC;FMTTYPE=text/html:local favorites playing all your favorite tunes\, where your dancing shoes
LOCATION:Badeauxs Seafood and Grill South Boston
UID:e.845.11723
SEQUENCE:3
DTSTAMP:20260421T093403Z
URL:https://business.halifaxchamber.net/events/details/public-consumption-11723
END:VEVENT

END:VCALENDAR
