BEGIN:VCALENDAR
VERSION:2.0
PRODID:-//ChamberMaster//Event Calendar 2.0//EN
METHOD:PUBLISH
X-PUBLISHED-TTL:P3D
REFRESH-INTERVAL:P3D
CALSCALE:GREGORIAN
BEGIN:VEVENT
DTSTART:20200216T010000Z
DTEND:20200216T050000Z
X-MICROSOFT-CDO-ALLDAYEVENT:FALSE
SUMMARY:Public Consumption at Badeaux
DESCRIPTION:Come out and support some of our local favorites. Bring the fun with tons of great music to dance or just enjoy.
X-ALT-DESC;FMTTYPE=text/html:<span style="color:rgb(29\, 33\, 41)\; font-family:system-ui\,-apple-system\,system-ui\,.sfnstext-regular\,sans-serif\; font-size:14px">Come out and support some of our local favorites. Bring the fun with tons of great music to dance or just enjoy.</span>&nbsp\;&nbsp\;&nbsp\;&nbsp\;&nbsp\;&nbsp\;&nbsp\;&nbsp\;
LOCATION:Badeaux Seafood and Grill 2001 Seymour Drive South Boston\, VA 24592
UID:e.845.17452
SEQUENCE:3
DTSTAMP:20260420T151508Z
URL:https://business.halifaxchamber.net/events/details/public-consumption-at-badeaux-17452
END:VEVENT

END:VCALENDAR
