BEGIN:VCALENDAR
VERSION:2.0
PRODID:-//ChamberMaster//Event Calendar 2.0//EN
METHOD:PUBLISH
X-PUBLISHED-TTL:P3D
REFRESH-INTERVAL:P3D
CALSCALE:GREGORIAN
BEGIN:VEVENT
DTSTART:20190119T020000Z
DTEND:20190119T060000Z
X-MICROSOFT-CDO-ALLDAYEVENT:FALSE
SUMMARY:Public Consumption at Badeaux's Seafood & Grill
DESCRIPTION:Public Consumtion Band at Badeaux's Seafood & Grill
X-ALT-DESC;FMTTYPE=text/html:Public Consumtion Band at Badeaux&#39\;s Seafood &amp\; Grill
LOCATION:Badeaux's Seafood & Grill 2001 Seymour Drive South Boston\, VA 24592
UID:e.845.11673
SEQUENCE:3
DTSTAMP:20260421T140249Z
URL:https://business.halifaxchamber.net/events/details/public-consumption-at-badeaux-s-seafood-grill-11673
END:VEVENT

END:VCALENDAR
