BEGIN:VCALENDAR
VERSION:2.0
PRODID:-//ChamberMaster//Event Calendar 2.0//EN
METHOD:PUBLISH
X-PUBLISHED-TTL:P3D
REFRESH-INTERVAL:P3D
CALSCALE:GREGORIAN
BEGIN:VEVENT
DTSTART:20190405T230000Z
DTEND:20190406T020000Z
X-MICROSOFT-CDO-ALLDAYEVENT:FALSE
SUMMARY:Public Consumption at Springfield Distillery
DESCRIPTION:Public Consumption brings there brand of fun to Springfield April 5 2019. They play all genres of music to provide something for all. They play a few classics like you havent heard before and a few you wont expect. guarenteed fun
X-ALT-DESC;FMTTYPE=text/html:<span style="background-color:rgb(255\, 255\, 255)\; color:rgb(29\, 33\, 41)\; font-family:system-ui\,-apple-system\,blinkmacsystemfont\,.sfnstext-regular\,sans-serif\; font-size:14px">Public Consumption brings there brand of fun to Springfield April 5 2019. They play all genres of music to provide something for all. They play a few classics like you havent heard before and a few you wont expect. guarenteed fun </span>
LOCATION:Springfield Distillery 9040 River Road Halifax\, VA
UID:e.845.11692
SEQUENCE:3
DTSTAMP:20260421T093526Z
URL:https://business.halifaxchamber.net/events/details/public-consumption-at-springfield-distillery-11692
END:VEVENT

END:VCALENDAR
