BEGIN:VCALENDAR
VERSION:2.0
PRODID:-//ChamberMaster//Event Calendar 2.0//EN
METHOD:PUBLISH
X-PUBLISHED-TTL:P3D
REFRESH-INTERVAL:P3D
CALSCALE:GREGORIAN
BEGIN:VEVENT
DTSTART:20191229T020000Z
DTEND:20191229T045500Z
X-MICROSOFT-CDO-ALLDAYEVENT:FALSE
SUMMARY:Public Consumption at the World of Sports
DESCRIPTION:Public Consumption live at the World of Sports Saturday\, December 28th from 9-midnight.
X-ALT-DESC;FMTTYPE=text/html:Public Consumption live at the World of Sports Saturday\, December 28th from 9-midnight.&nbsp\;
LOCATION:World of Sports 2030 Bill Tuck Highway South Boston\, VA 24592
UID:e.845.15571
SEQUENCE:3
DTSTAMP:20260420T200553Z
URL:https://business.halifaxchamber.net/events/details/public-consumption-at-the-world-of-sports-12-28-2019-15571
END:VEVENT

END:VCALENDAR
