BEGIN:VCALENDAR
VERSION:2.0
PRODID:-//ChamberMaster//Event Calendar 2.0//EN
METHOD:PUBLISH
X-PUBLISHED-TTL:P3D
REFRESH-INTERVAL:P3D
CALSCALE:GREGORIAN
BEGIN:VEVENT
DTSTART:20190824T010000Z
DTEND:20190824T035500Z
X-MICROSOFT-CDO-ALLDAYEVENT:FALSE
SUMMARY:Public Consumption at the World of Sports
DESCRIPTION:Public Consumption live at the World of Sports Friday\, August 23rd from 9-midnight.
X-ALT-DESC;FMTTYPE=text/html:Public Consumption live at the World of Sports Friday\, August 23rd from 9-midnight.&nbsp\;
LOCATION:World of Sports 2030 Bill Tuck Highway South Boston\, VA 24592
UID:e.845.13272
SEQUENCE:3
DTSTAMP:20260421T012819Z
URL:https://business.halifaxchamber.net/events/details/public-consumption-at-the-world-of-sports-13272
END:VEVENT

END:VCALENDAR
