BEGIN:VCALENDAR
VERSION:2.0
PRODID:-//ChamberMaster//Event Calendar 2.0//EN
METHOD:PUBLISH
X-PUBLISHED-TTL:P3D
REFRESH-INTERVAL:P3D
CALSCALE:GREGORIAN
BEGIN:VEVENT
DTSTART:20190212T230000Z
DTEND:20190213T000000Z
X-MICROSOFT-CDO-ALLDAYEVENT:FALSE
SUMMARY:Public Hearing/Community Meeting: Poplar Creek Homes Project
DESCRIPTION:The Town of South Boston will hold a public hearing on Tuesday\, February 12\, 2019 at 6:00 pm at the Washington Coleman Community Center Library to solicit public input on the proposed Poplar Creek Homes housing project to benefit low-to-moderate income individuals and families. Citizens will be informed of the Town's intent to apply for Community Development Block Grant funds to construct an affordable housing community in South Boston.
X-ALT-DESC;FMTTYPE=text/html:<p>The Town of South Boston will hold a public hearing on Tuesday\, February 12\, 2019 at 6:00 pm at the Washington Coleman Community Center Library to solicit public input on the proposed Poplar Creek Homes housing project to benefit low-to-moderate income individuals and families. Citizens will be informed of the Town&rsquo\;s intent to apply for Community Development Block Grant funds to construct an affordable housing community in South Boston.</p>\n\n<p>&nbsp\;</p>\n
LOCATION:Washington Coleman Community Center Library 1927 Jeffress Boulevard\, South Boston\, Virginia 24592
UID:e.845.11722
SEQUENCE:3
DTSTAMP:20260423T090918Z
URL:https://business.halifaxchamber.net/events/details/public-hearing-community-meeting-poplar-creek-homes-project-11722
END:VEVENT

END:VCALENDAR
