BEGIN:VCALENDAR
VERSION:2.0
PRODID:-//ChamberMaster//Event Calendar 2.0//EN
METHOD:PUBLISH
X-PUBLISHED-TTL:P3D
REFRESH-INTERVAL:P3D
CALSCALE:GREGORIAN
BEGIN:VEVENT
DTSTART:20190130T223000Z
DTEND:20190130T233000Z
X-MICROSOFT-CDO-ALLDAYEVENT:FALSE
SUMMARY:Public Information Meeting: Regional Bus Service
DESCRIPTION:The City of Danville Transit System will hold a public information meeting on January 30\, 2019\, at 5:30pm at the Washington Coleman Community Center Library. With the approval of grant funds\, Danville City Transit will establish a new bus service from Danville to South Boston. The bus will have a "fixed" route making stops at Sentara Halifax Regional Hospital\, the Southern Virginia Higher Education Center\, and at the major employers located on Hwy 58.\n\nThe proposed bus route and schedule will be provided at the January 30th meeting. Public comments are requested.
X-ALT-DESC;FMTTYPE=text/html:<span style="color:black"><span style="font-family:calibri"><span style="font-size:12.0pt">The City of Danville Transit System </span></span></span><span style="font-family:calibri"><span style="font-size:12.0pt">will hold a public information meeting on January 30\, 2019\, at 5:30pm at the Washington Coleman Community Center Library. </span></span><span style="color:black"><span style="font-family:calibri"><span style="font-size:12.0pt">With the approval of grant funds\, Danville City Transit will establish a new bus service from Danville to South Boston. The bus will have a &ldquo\;fixed&rdquo\; route making stops at Sentara Halifax Regional Hospital\, the Southern Virginia Higher Education Center\, and at the major employers located on Hwy 58.<br />\n<strong><span style="background-color:#FFFF00">The proposed bus route and schedule will be provided at the January 30</span><sup><span style="background-color:#FFFF00">th</span></sup><span style="background-color:#FFFF00"> meeting.</span></strong> <strong><span style="background-color:#FFFF00">Public comments are requested. </span></strong></span></span></span><br />\n&nbsp\;
LOCATION:Washington Coleman Community Center Library 1927 Jeffress Boulevard\, South Boston\, Virginia 24592
UID:e.845.11721
SEQUENCE:3
DTSTAMP:20260421T140242Z
URL:https://business.halifaxchamber.net/events/details/public-information-meeting-regional-bus-service-11721
END:VEVENT

END:VCALENDAR
