BEGIN:VCALENDAR
VERSION:2.0
PRODID:-//ChamberMaster//Event Calendar 2.0//EN
METHOD:PUBLISH
X-PUBLISHED-TTL:P3D
REFRESH-INTERVAL:P3D
CALSCALE:GREGORIAN
BEGIN:VEVENT
DTSTART:20170622T130000Z
DTEND:20170622T200000Z
X-MICROSOFT-CDO-ALLDAYEVENT:FALSE
SUMMARY:Public Safety Youth Camp
DESCRIPTION:The Halifax County Sheriff's Office will be holding a Public Safety Youth Camp from June 19 - June 23. \n\nIt is for boy and girls between the ages of 9 and 13 who may have an interest in public safety. The camp introduces the children to the basics of firefighting\, rescue and law enforcement. \n\n\n\nThe camp fee is $40 and includes a tee shirt and lunch every day. Participants must register by June 7th. \n\n\n\nFor more information and the application visit: ftp://members2.gcronline.com/bdf/EMS/2017/HCSO%20PUBLIC%20SAFETY%20YOUTH%20CAMP.pdf
X-ALT-DESC;FMTTYPE=text/html:The Halifax County Sheriff&#39\;s Office will be holding a Public Safety Youth Camp from June 19 - June 23.&nbsp\;<br />\nIt is for boy and girls between the ages of 9 and 13 who may have an interest in public safety. The camp introduces the children to the basics of firefighting\, rescue and law enforcement.&nbsp\;<br />\n<br />\nThe camp fee is $40 and includes a tee shirt and lunch every day. Participants must register by June 7th.&nbsp\;<br />\n<br />\nFor more information and the application&nbsp\;visit:&nbsp\;<a href="ftp://members2.gcronline.com/bdf/EMS/2017/HCSO%20PUBLIC%20SAFETY%20YOUTH%20CAMP.pdf">ftp://members2.gcronline.com/bdf/EMS/2017/HCSO%20PUBLIC%20SAFETY%20YOUTH%20CAMP.pdf</a>
LOCATION:Halifax County Fire-Rescue Training Center Behind the Middle School South Boston\, VA
UID:e.845.5991
SEQUENCE:3
DTSTAMP:20260423T010730Z
URL:https://business.halifaxchamber.net/events/details/public-safety-youth-camp-5991
END:VEVENT

END:VCALENDAR
