BEGIN:VCALENDAR
VERSION:2.0
PRODID:-//ChamberMaster//Event Calendar 2.0//EN
METHOD:PUBLISH
X-PUBLISHED-TTL:P3D
REFRESH-INTERVAL:P3D
CALSCALE:GREGORIAN
BEGIN:VEVENT
DTSTART:20171028T170000Z
DTEND:20171028T190000Z
X-MICROSOFT-CDO-ALLDAYEVENT:FALSE
SUMMARY:Pumpkin Carving and Decorating Contest
DESCRIPTION:South Boston - Halifax County Museum is hosting its first annual Pumpkin Carving and Decorating Contest.\n\n\n\nWhen Halloween comes around\, both young and old participate in the fun of carving or decorating pumpkins. Prizes will be awarded for several categories for carvings made by participants aged 16 or over and painted pumpkins decorated by children 15 and younger.\n\n\n\nAll materials and supplies will be provided by the museum for a $10 participation fee. Just bring your talent and enthusiasm!\n\n\n\nSupplies are limited\, so please register in advance!\n\n\n\nTo reserve a pumpkin\, call the museum at (434) 572-9200 or email info@sbhcmuseum.org.\n\n\n\nSponsored by: Reese Farms and volunteers of the South Boston-Halifax County Museum.
X-ALT-DESC;FMTTYPE=text/html:South Boston - Halifax County Museum is hosting its first annual Pumpkin Carving and Decorating Contest.<br />\n<br />\nWhen Halloween comes around\, both young and old participate in the fun of carving or decorating pumpkins. Prizes will be awarded for several categories for carvings made by participants aged 16 or over and painted pumpkins decorated by children 15 and younger.<br />\n<br />\nAll materials and supplies will be provided by the museum for a $10 participation fee. Just bring your talent and enthusiasm!<br />\n<br />\nSupplies are limited\, so please register in advance!<br />\n<br />\nTo reserve a pumpkin\, call the museum at (434) 572-9200 or email info@sbhcmuseum.org.<br />\n<br />\nSponsored by: Reese Farms and volunteers of the South Boston-Halifax County Museum.
LOCATION:South Boston-Halifax County Museum 1540 Wilborn Ave South Boston\, VA
UID:e.845.7136
SEQUENCE:3
DTSTAMP:20260422T135732Z
URL:https://business.halifaxchamber.net/events/details/pumpkin-carving-and-decorating-contest-7136
END:VEVENT

END:VCALENDAR
