BEGIN:VCALENDAR
VERSION:2.0
PRODID:-//ChamberMaster//Event Calendar 2.0//EN
METHOD:PUBLISH
X-PUBLISHED-TTL:P3D
REFRESH-INTERVAL:P3D
CALSCALE:GREGORIAN
BEGIN:VEVENT
DTSTART:20201031T130000Z
DTEND:20201031T170000Z
X-MICROSOFT-CDO-ALLDAYEVENT:FALSE
SUMMARY:Pumpkin Decorating Contest
DESCRIPTION:Drop off your pumpkin at the Halifax Farmers Market between 9:00-10:00 am\n\nCome out and vote for your favorite pumpkin between 10:00am-1:00pm\n\nOpen to kids 0-13 years of age\n\nPeople's Choice prizes awarded to 1st\, 2nd\, 3rd\, & 4th place
X-ALT-DESC;FMTTYPE=text/html:Drop off your pumpkin at the Halifax Farmers Market between 9:00-10:00 am<br />\nCome out and vote for your favorite pumpkin between 10:00am-1:00pm<br />\nOpen to kids 0-13 years of age<br />\nPeople&#39\;s Choice prizes awarded to 1st\, 2nd\, 3rd\, &amp\; 4th place
LOCATION:Halifax Farmers Market 209 South Main St Halifax\, VA 24558
UID:e.845.17782
SEQUENCE:3
DTSTAMP:20260420T012406Z
URL:https://business.halifaxchamber.net/events/details/pumpkin-decorating-contest-17782
END:VEVENT

END:VCALENDAR
