BEGIN:VCALENDAR
VERSION:2.0
PRODID:-//ChamberMaster//Event Calendar 2.0//EN
METHOD:PUBLISH
X-PUBLISHED-TTL:P3D
REFRESH-INTERVAL:P3D
CALSCALE:GREGORIAN
BEGIN:VEVENT
DTSTART:20191114T233000Z
DTEND:20191115T010000Z
X-MICROSOFT-CDO-ALLDAYEVENT:FALSE
SUMMARY:Pumpkulents & Pints
DESCRIPTION:Join JB's for Pumpkulents and Pints where you can sip on your favorite craft beer (or adult beverage) and make your own pumpkulent.\n\nNo green thumb needed\, Angela Huffman Forlines will walk you through designing the perfect pumpkulent.\n\n\n\nTickets include:\n\n	One pumpkin\n	Decorative moss\n	Small suculents\n	Decoration\n	Your beverage of choice.\n\nTickets must be purchased no later than November 7th
X-ALT-DESC;FMTTYPE=text/html:Join JB&#39\;s for Pumpkulents and Pints where you can sip on your favorite craft beer (or adult beverage) and make your own pumpkulent.<br />\nNo green thumb needed\, Angela Huffman Forlines will walk you through designing the perfect pumpkulent.<br />\n<br />\nTickets include:\n<ul>\n	<li>One pumpkin</li>\n	<li>Decorative moss</li>\n	<li>Small suculents</li>\n	<li>Decoration</li>\n	<li>Your beverage of choice.</li>\n</ul>\nTickets must be purchased no later than November 7th
LOCATION:JB's Burgers\, Apps & Taps 2030 Bill Tuck Highway South Boston\, VA 24592
UID:e.845.14484
SEQUENCE:3
DTSTAMP:20260420T195632Z
URL:https://business.halifaxchamber.net/events/details/pumpkulents-pints-14484
END:VEVENT

END:VCALENDAR
