BEGIN:VCALENDAR
VERSION:2.0
PRODID:-//ChamberMaster//Event Calendar 2.0//EN
METHOD:PUBLISH
X-PUBLISHED-TTL:P3D
REFRESH-INTERVAL:P3D
CALSCALE:GREGORIAN
BEGIN:VEVENT
DTSTART:20170315T140000Z
DTEND:20170315T150000Z
X-MICROSOFT-CDO-ALLDAYEVENT:FALSE
SUMMARY:Quality Inn Grand Opening
DESCRIPTION:Quality Inn will be holding their grand opening Wednesday\, March 15 at 10:00 AM.\n\n\n\nTom Raab\, Town Manager of South Boston will be the guest speaker.\n\n\n\nCome and give your wishes and blessings!
X-ALT-DESC;FMTTYPE=text/html:Quality Inn will be holding their grand opening Wednesday\, March&nbsp\;15&nbsp\;at 10:00 AM.<br />\n<br />\nTom Raab\, Town Manager of South Boston will be the guest speaker.<br />\n<br />\nCome and give your wishes and blessings!&nbsp\;
LOCATION:Quality Inn 2001 Seymour Dr. South Boston\, VA
UID:e.845.5829
SEQUENCE:3
DTSTAMP:20260424T145312Z
URL:https://business.halifaxchamber.net/events/details/quality-inn-grand-opening-5829
END:VEVENT

END:VCALENDAR
