BEGIN:VCALENDAR
VERSION:2.0
PRODID:-//ChamberMaster//Event Calendar 2.0//EN
METHOD:PUBLISH
X-PUBLISHED-TTL:P3D
REFRESH-INTERVAL:P3D
CALSCALE:GREGORIAN
BEGIN:VEVENT
DTSTART:20191207T140000Z
DTEND:20191207T220000Z
X-MICROSOFT-CDO-ALLDAYEVENT:FALSE
SUMMARY:Racing for Heroes Charity Laps
DESCRIPTION:Join Racing for Heroes Charity Laps on VIR's South Course.\n\n$25 for 15 minutes in YOUR car behind the pace vehicle.\n\nAll proceeds go to growing Racing for Heroes Wellness Center
X-ALT-DESC;FMTTYPE=text/html:Join Racing for Heroes Charity Laps on VIR&#39\;s South Course.<br />\n$25 for 15 minutes in YOUR car behind the pace vehicle.<br />\nAll proceeds go to growing Racing for Heroes Wellness Center
LOCATION:VIRginia International Raceway 1025 Raceplex Drive Alton\, VA 24520
UID:e.845.15533
SEQUENCE:3
DTSTAMP:20260420T200052Z
URL:https://business.halifaxchamber.net/events/details/racing-for-heroes-charity-laps-15533
END:VEVENT

END:VCALENDAR
