BEGIN:VCALENDAR
VERSION:2.0
PRODID:-//ChamberMaster//Event Calendar 2.0//EN
METHOD:PUBLISH
X-PUBLISHED-TTL:P3D
REFRESH-INTERVAL:P3D
CALSCALE:GREGORIAN
BEGIN:VEVENT
DTSTART:20190615T130000Z
DTEND:20190615T200000Z
X-MICROSOFT-CDO-ALLDAYEVENT:FALSE
SUMMARY:Racing for Heroes Open House
DESCRIPTION:Saturday\, June 15th Racing For Heroes will be open for everyone to come check out our shop\, tactical and defensive driving\, and hanging out with some veterans!    Learn how our organization helps veterans using Motorsports! Bring your friends bring your family and get ready for a great time!
X-ALT-DESC;FMTTYPE=text/html:<span style="color: rgb(28\, 30\, 33)\; font-family: system-ui\, -apple-system\, system-ui\, &quot\;.SFNSText-Regular&quot\;\, sans-serif\; font-size: 14px\;">Saturday\, June 15th Racing For Heroes will be open for everyone to come check out our shop\, tactical and defensive driving\, and hanging out with some veterans!&nbsp\;</span><span class="_5mfr" style="margin: 0px 1px\; font-family: system-ui\, -apple-system\, system-ui\, &quot\;.SFNSText-Regular&quot\;\, sans-serif\; color: rgb(28\, 30\, 33)\; font-size: 14px\;"><span class="_6qdm" style="background-repeat: no-repeat\; background-size: contain\; color: transparent\; display: inline-block\; text-shadow: none\; vertical-align: text-bottom\; font-family: inherit\; height: 16px\; width: 16px\; font-size: 16px\; background-image: url(&quot\;https://static.xx.fbcdn.net/images/emoji.php/v9/t34/1/16/1f918_1f3fc.png?_nc_eui2=AeErPGVLRA5M8sD9ncUIGp_Tbr728Du50xqJdmfGVPxQVARBqwuchG75H0HX_P9l1lS6O1Ewg1vEKQEqGzYh9_vMiHF_yR2m-NtvXAl8x4l4IQ&quot\;)\;">&#129304\;&#127996\;</span></span><span style="color: rgb(28\, 30\, 33)\; font-family: system-ui\, -apple-system\, system-ui\, &quot\;.SFNSText-Regular&quot\;\, sans-serif\; font-size: 14px\;">&nbsp\;Learn how our organization helps veterans using Motorsports! Bring your friends bring your family and get ready for a great time!&nbsp\;</span>
LOCATION:1025 Raceplex Road Alton\, VA
UID:e.845.13163
SEQUENCE:3
DTSTAMP:20260421T044405Z
URL:https://business.halifaxchamber.net/events/details/racing-for-heroes-open-house-13163
END:VEVENT

END:VCALENDAR
