BEGIN:VCALENDAR
VERSION:2.0
PRODID:-//ChamberMaster//Event Calendar 2.0//EN
METHOD:PUBLISH
X-PUBLISHED-TTL:P3D
REFRESH-INTERVAL:P3D
CALSCALE:GREGORIAN
BEGIN:VEVENT
DTSTART:20180514T140000Z
DTEND:20180514T180000Z
X-MICROSOFT-CDO-ALLDAYEVENT:FALSE
SUMMARY:Recruiting Event
DESCRIPTION:Recruiting Event For:\n\nForklift/Machine Operators\n\nShipping/Receiving Associates\n\nMaintenance Technician\n\nPipe Fitters/Helpers\n\nStaff Accountant/Bookkeeper\n\n\n\nDress for Success\, Bring resume
X-ALT-DESC;FMTTYPE=text/html:Recruiting Event For:<br />\nForklift/Machine Operators<br />\nShipping/Receiving&nbsp\;Associates<br />\nMaintenance Technician<br />\nPipe Fitters/Helpers<br />\nStaff Accountant/Bookkeeper<br />\n<br />\nDress for Success\, Bring resume
LOCATION:Virginia Workforce Center/ South Boston 2506 Houghton Avenue South Boston\, VA 24592
UID:e.845.8304
SEQUENCE:3
DTSTAMP:20260422T014449Z
URL:https://business.halifaxchamber.net/events/details/recruiting-event-8304
END:VEVENT

END:VCALENDAR
