BEGIN:VCALENDAR
VERSION:2.0
PRODID:-//ChamberMaster//Event Calendar 2.0//EN
METHOD:PUBLISH
X-PUBLISHED-TTL:P3D
REFRESH-INTERVAL:P3D
CALSCALE:GREGORIAN
BEGIN:VEVENT
DTSTART:20180307T140000Z
DTEND:20180307T190000Z
X-MICROSOFT-CDO-ALLDAYEVENT:FALSE
SUMMARY:Recruiting Event / Ameristaff
DESCRIPTION:Ameristaff Recruiting Event\n\nRecruiting for the following positions:\n\nMachine Operators\n\nStaff Accountant/Bookkeeper\n\nShipping and Receiving Associates\n\nCustomer Service Representatives (Warehouse )\n\nDress for success\, Bring resume.\n\nwww.ameristaff.com Apply Online
X-ALT-DESC;FMTTYPE=text/html:Ameristaff&nbsp\;Recruiting Event<br />\nRecruiting for the following positions:<br />\nMachine Operators<br />\nStaff Accountant/Bookkeeper<br />\nShipping and Receiving Associates<br />\nCustomer Service Representatives (Warehouse )<br />\nDress for success\, Bring resume.<br />\nwww.ameristaff.com&nbsp\;Apply Online
LOCATION:Ameristaff Employment & Staffing Solutions 4130 Halifax Road South Boston\, VA 24592
UID:e.845.7236
SEQUENCE:3
DTSTAMP:20260422T051718Z
URL:https://business.halifaxchamber.net/events/details/recruiting-event-ameristaff-7236
END:VEVENT

END:VCALENDAR
