BEGIN:VCALENDAR
VERSION:2.0
PRODID:-//ChamberMaster//Event Calendar 2.0//EN
METHOD:PUBLISH
X-PUBLISHED-TTL:P3D
REFRESH-INTERVAL:P3D
CALSCALE:GREGORIAN
BEGIN:VEVENT
DTSTART:20201114T150000Z
DTEND:20201114T210000Z
X-MICROSOFT-CDO-ALLDAYEVENT:FALSE
SUMMARY:Reese's Farm Fresh Holiday Open House
DESCRIPTION:
X-ALT-DESC;FMTTYPE=text/html:
LOCATION:8121 James D Hagood Hwy Scottsburg\, VA 24592
UID:e.845.17808
SEQUENCE:3
DTSTAMP:20260419T234820Z
URL:https://business.halifaxchamber.net/events/details/reese-s-farm-fresh-holiday-open-house-17808
END:VEVENT

END:VCALENDAR
