BEGIN:VCALENDAR
VERSION:2.0
PRODID:-//ChamberMaster//Event Calendar 2.0//EN
METHOD:PUBLISH
X-PUBLISHED-TTL:P3D
REFRESH-INTERVAL:P3D
CALSCALE:GREGORIAN
BEGIN:VEVENT
DTSTART:20190813T123000Z
DTEND:20190813T140000Z
X-MICROSOFT-CDO-ALLDAYEVENT:FALSE
SUMMARY:Registered Youth Apprenticeships 101
DESCRIPTION:The SVHEC Career Tech Academy is hosting an informational and training workshop on Registered Youth Apprenticeship: What you need to know as an educator\, business\, HR Director\, & community partner about apprenticeships. \n\nGuest Speaker: \n\nPatricia "Trisha" Morrison\, Director\, Department of Labor & Industry\, Division of Registered Apprenticeship \n\nKey Points: \n\n\n	Laws\, guidelines\, and restrictions for students under the age of 18   \n	Understanding the employers' needs \n	In-depth discussion on how to create and facilitate a model for educators\, employers\, and community partners that will strengthen the region's workforce culture. \n\nTo RSVP contact CTA Administrator\, Stephanie Robinson at stephanierobinson@svhec.org or 434-572-5492
X-ALT-DESC;FMTTYPE=text/html:<div class="page" title="Page 1">\n<div class="layoutArea">\n<div class="column">\n<p><span style="font-size:12px\;"><span style="font-family: CenturyGothic\;">The SVHEC Career Tech Academy is hosting an informational and training workshop on </span><span style="font-family: CenturyGothic\; font-weight: 700\; font-style: italic\;">Registered Youth Apprenticeship: What you need to know as an educator\, business\, HR Director\, &amp\; community partner about apprenticeships. </span></span></p>\n\n<p><span style="font-size:12px\;"><span style="font-family: CenturyGothic\;">Guest Speaker: </span></span></p>\n\n<p><span style="font-size:12px\;"><span style="font-family: CenturyGothic\;">Patricia &ldquo\;Trisha&rdquo\; Morrison\, Director\, Department of Labor &amp\; Industry\, </span><span style="font-family: CenturyGothic\;">Division of Registered Apprenticeship </span></span></p>\n\n<p><span style="font-size:12px\;"><span style="font-family: CenturyGothic\; font-weight: 700\; font-style: italic\;">Key Points</span><span style="font-family: CenturyGothic\;">: </span></span></p>\n\n<ul>\n	<li><span style="font-size:12px\;"><span style="font-family: CenturyGothic\;">Laws\, guidelines\, and restrictions for students under the age of 18 &#8203\;<span style="font-size:12px\;"><span style="font-family: SymbolMT\;">&nbsp\;</span></span></span></span></li>\n	<li><span style="font-size:12px\;"><span style="font-family: CenturyGothic\;"><span style="font-size:12px\;"><span style="font-family: CenturyGothic\;">Understanding the employers&rsquo\; needs </span></span></span></span></li>\n	<li><span style="font-size:12px\;"><span style="font-family: CenturyGothic\;">In-depth discussion on how to create and facilitate a model for educators\, employers\, and community partners that will strengthen the region&#39\;s workforce culture. </span></span></li>\n</ul>\n<span style="font-size:12px\;"><span style="font-family: CenturyGothic\;">To RSVP contact CTA Administrator\, Stephanie Robinson at stephanierobinson@svhec.org or 434-572-5492</span></span></div>\n</div>\n</div>\n
LOCATION:Southern Virginia Higher Education Center Innovation Center 820 Bruce Street South Boston\, VA 24592
UID:e.845.13247
SEQUENCE:3
DTSTAMP:20260421T013003Z
URL:https://business.halifaxchamber.net/events/details/registered-youth-apprenticeships-101-13247
END:VEVENT

END:VCALENDAR
