BEGIN:VCALENDAR
VERSION:2.0
PRODID:-//ChamberMaster//Event Calendar 2.0//EN
METHOD:PUBLISH
X-PUBLISHED-TTL:P3D
REFRESH-INTERVAL:P3D
CALSCALE:GREGORIAN
BEGIN:VEVENT
DTSTART:20200125T020000Z
DTEND:20200125T045500Z
X-MICROSOFT-CDO-ALLDAYEVENT:FALSE
SUMMARY:Remedy at the World of Sports
DESCRIPTION:Remedy performing all your favorites at the World of Sports Friday\, January 24th from 9:00pm - 12:00am
X-ALT-DESC;FMTTYPE=text/html:Remedy performing all your favorites at the World of Sports Friday\, January 24th from 9:00pm - 12:00am
LOCATION:World of Sports 2030 Bill Tuck Highway South Boston\, Va 24592
UID:e.845.15627
SEQUENCE:3
DTSTAMP:20260420T183610Z
URL:https://business.halifaxchamber.net/events/details/remedy-at-the-world-of-sports-01-24-2020-15627
END:VEVENT

END:VCALENDAR
