BEGIN:VCALENDAR
VERSION:2.0
PRODID:-//ChamberMaster//Event Calendar 2.0//EN
METHOD:PUBLISH
X-PUBLISHED-TTL:P3D
REFRESH-INTERVAL:P3D
CALSCALE:GREGORIAN
BEGIN:VEVENT
DTSTART:20200321T003000Z
DTEND:20200321T033000Z
X-MICROSOFT-CDO-ALLDAYEVENT:FALSE
SUMMARY:Remedy at the World of Sports
DESCRIPTION:Remedy is a band ready to party that plays a variety of music including: Country\, Beach\, Alternative\, and Rock.  They will be performing at the World of Sports on Friday\, March 20th from 8:30 - 11:30pm.
X-ALT-DESC;FMTTYPE=text/html:<span style="color:rgb(28\, 30\, 33)\; font-family:system-ui\,-apple-system\,blinkmacsystemfont\,.sfnstext-regular\,sans-serif\; font-size:12px">Remedy is a band ready to party that plays a variety of music including: Country\, Beach\, Alternative\, and Rock. &nbsp\;They will be performing at the World of Sports on Friday\, March 20th from 8:30 - 11:30pm.</span><br />\n<br />\n&nbsp\;
LOCATION:World of Sports 2030 Bill Tuck Highway South Boston\, Va 24592
UID:e.845.17527
SEQUENCE:3
DTSTAMP:20260420T132719Z
URL:https://business.halifaxchamber.net/events/details/remedy-at-the-world-of-sports-03-20-2020-17527
END:VEVENT

END:VCALENDAR
