BEGIN:VCALENDAR
VERSION:2.0
PRODID:-//ChamberMaster//Event Calendar 2.0//EN
METHOD:PUBLISH
X-PUBLISHED-TTL:P3D
REFRESH-INTERVAL:P3D
CALSCALE:GREGORIAN
BEGIN:VEVENT
DTSTART:20190727T010000Z
DTEND:20190727T035500Z
X-MICROSOFT-CDO-ALLDAYEVENT:FALSE
SUMMARY:Remedy at the World of Sports
DESCRIPTION:Remedy performing live at the World of Sports Friday\, July 26th.
X-ALT-DESC;FMTTYPE=text/html:Remedy performing live at the World of Sports Friday\, July 26th.&nbsp\;
LOCATION:World of Sports 2030 Bill Tuck Highway South Boston\, VA 24592
UID:e.845.13232
SEQUENCE:3
DTSTAMP:20260421T045651Z
URL:https://business.halifaxchamber.net/events/details/remedy-at-the-world-of-sports-07-26-2019-13232
END:VEVENT

END:VCALENDAR
