BEGIN:VCALENDAR
VERSION:2.0
PRODID:-//ChamberMaster//Event Calendar 2.0//EN
METHOD:PUBLISH
X-PUBLISHED-TTL:P3D
REFRESH-INTERVAL:P3D
CALSCALE:GREGORIAN
BEGIN:VEVENT
DTSTART:20200512T220000Z
DTEND:20200512T230000Z
X-MICROSOFT-CDO-ALLDAYEVENT:FALSE
SUMMARY:Reopening After Lockdowns
DESCRIPTION:Our upcoming webinar sessions on May 8 and 12 will focus on reopening after COVID-19 lockdowns are lifted\, with representatives of the Virginia Employment Commission and The Spark Mill leading the panel discussion.\n\n\n\nVEC will review unemployment assistance programs under the CARES Act\, as well as resources and Virginia claims processes. The Spark Mill\, a Richmond change management consultancy\, will focus on the nuts and bolts of reopening\, including employee safety\, manuals and policies\, and rebuilding culture during uncertainty.\n\n\n\nPresenters are: \n\n	Malissa Short\, Rapid Response/Rapid Reemployment Manager\, VEC\n	Michael Abraham\, EO Federal Monitor\, VEC \n	Sarah Milston\, CEO and Founder\, The Spark Mill
X-ALT-DESC;FMTTYPE=text/html:<span style="font-size:12px\;"><span style="color:#222222\;"><span style="font-family:helvetica\;">Our upcoming webinar sessions on May 8 and 12&nbsp\;will focus on reopening after COVID-19 lockdowns are lifted\,&nbsp\;with representatives of the Virginia Employment Commission and The Spark Mill leading the panel discussion.<br />\n<br />\nVEC will&nbsp\;review unemployment assistance programs under the CARES Act\, as well as resources and Virginia claims&nbsp\;processes. The Spark Mill\, a Richmond&nbsp\;change management consultancy\,&nbsp\;will focus on the nuts and bolts of reopening\,&nbsp\;including employee safety\, manuals and policies\, and rebuilding culture during uncertainty.<br />\n<br />\nPresenters are:&nbsp\;</span></span></span>\n<ul>\n	<li style="font-size:11pt\;font-family:Calibri\, sans-serif\;color:rgb(34\, 34\, 34)\;line-height:22px\;"><span style="font-size:12px\;"><strong><span style="font-family:helvetica\;">Malissa Short\,</span></strong><span style="font-family:helvetica\;"> Rapid Response/Rapid Reemployment Manager\, VEC</span></span></li>\n	<li style="font-size:11pt\;font-family:Calibri\, sans-serif\;color:rgb(34\, 34\, 34)\;line-height:22px\;"><span style="font-size:12px\;"><strong><span style="font-family:helvetica\;">Michael Abraham\, </span></strong><span style="font-family:helvetica\;">EO Federal Monitor\, VEC&nbsp\;</span></span></li>\n	<li style="font-size:11pt\;font-family:Calibri\, sans-serif\;color:rgb(34\, 34\, 34)\;line-height:22px\;"><span style="font-size:12px\;"><strong><span style="font-family:helvetica\;">Sarah Milston\,</span></strong><span style="font-family:helvetica\;">&nbsp\;CEO and Founder\,&nbsp\;The Spark Mill</span></span></li>\n</ul>\n
LOCATION:Advanced registration is required. Register below and your session link will be emailed to you. https://zoom.us/webinar/register/WN_qR28S4pDQDWvdYGuW1DKUg
UID:e.845.17592
SEQUENCE:3
DTSTAMP:20260420T095904Z
URL:https://business.halifaxchamber.net/events/details/reopening-after-lockdowns-17592
END:VEVENT

END:VCALENDAR
