BEGIN:VCALENDAR
VERSION:2.0
PRODID:-//ChamberMaster//Event Calendar 2.0//EN
METHOD:PUBLISH
X-PUBLISHED-TTL:P3D
REFRESH-INTERVAL:P3D
CALSCALE:GREGORIAN
BEGIN:VEVENT
DTSTART:20190223T160000Z
DTEND:20190223T220000Z
X-MICROSOFT-CDO-ALLDAYEVENT:FALSE
SUMMARY:REPENTANCE RELEASE! Hunting Creek Vineyards
DESCRIPTION:It's back! The delicious\, slightly sweet red wine in the blue bottle. Get it this Saturday\, February 23rd 11am-5pm. Pam Toombs will be demonstrating grapevine art at 1 pm and 3 pm. Make your own and take it home!
X-ALT-DESC;FMTTYPE=text/html:<span style="caret-color: rgb(29\, 33\, 41)\; color: rgb(29\, 33\, 41)\; font-family: system-ui\, -apple-system\, BlinkMacSystemFont\, &quot\;.SFNSText-Regular&quot\;\, sans-serif\; font-size: 14px\; background-color: rgb(255\, 255\, 255)\;">It&#39\;s back! The delicious\, slightly sweet red wine in the blue bottle. Get it this Saturday\, February 23rd 11am-5pm. Pam Toombs will be demonstrating grapevine art at 1 pm and 3 pm. Make your own and take it home!</span>
LOCATION:Hunting Creek Vineyards
UID:e.845.12048
SEQUENCE:3
DTSTAMP:20260421T110114Z
URL:https://business.halifaxchamber.net/events/details/repentance-release-hunting-creek-vineyards-12048
END:VEVENT

END:VCALENDAR
