BEGIN:VCALENDAR
VERSION:2.0
PRODID:-//ChamberMaster//Event Calendar 2.0//EN
METHOD:PUBLISH
X-PUBLISHED-TTL:P3D
REFRESH-INTERVAL:P3D
CALSCALE:GREGORIAN
BEGIN:VEVENT
DTSTART:20200120T130000Z
DTEND:20200120T150000Z
X-MICROSOFT-CDO-ALLDAYEVENT:FALSE
SUMMARY:Rev. Dr. Martin Luther King Jr. Birthday Breakfast Celebration
DESCRIPTION:The L.E. Coleman African American Museum cordially invites you to celebrate Rev. Dr. Martin Luther King Jr.'s Birthday with breakfast at The Prizery with guest speaker Rev. Dr. Otis R. Dillard.
X-ALT-DESC;FMTTYPE=text/html:The L.E. Coleman African American Museum cordially invites you to celebrate Rev. Dr. Martin Luther King Jr.&#39\;s Birthday with breakfast at The Prizery with guest speaker Rev. Dr. Otis R. Dillard.
LOCATION:700 Bruce Street South Boston\, VA 24592
UID:e.845.15647
SEQUENCE:3
DTSTAMP:20260420T165602Z
URL:https://business.halifaxchamber.net/events/details/rev-dr-martin-luther-king-jr-birthday-breakfast-celebration-15647
END:VEVENT

END:VCALENDAR
