BEGIN:VCALENDAR
VERSION:2.0
PRODID:-//ChamberMaster//Event Calendar 2.0//EN
METHOD:PUBLISH
X-PUBLISHED-TTL:P3D
REFRESH-INTERVAL:P3D
CALSCALE:GREGORIAN
BEGIN:VEVENT
DTSTART:20200617T170000Z
DTEND:20200617T190000Z
X-MICROSOFT-CDO-ALLDAYEVENT:FALSE
SUMMARY:Revive! Opioid Overdose and Naloxone Education for Virginia
DESCRIPTION:Participants will learn to: \n\nRecognize signs of an opioid overdose. \n\nRespond to an opioid emergency. \n\nAdminister Naloxone. \n\nTraining is provided at no cost and participants receive a voucher for Narcan.
X-ALT-DESC;FMTTYPE=text/html:<div>\n<div>\n<div>\n<div>\n<p><span style="font-family:roboto\; font-size:12.000000pt">Participants will learn to: </span></p>\n\n<p><strong>Recognize signs of an opioid overdose. </strong></p>\n\n<p><strong>Respond to an opioid emergency. </strong></p>\n\n<p><strong>Administer Naloxone. </strong></p>\n\n<p><span style="font-family:roboto\; font-size:12.000000pt">Training is provided at </span><strong>no cost </strong><span style="font-family:roboto\; font-size:12.000000pt">and participants </span><strong>receive a voucher for Narcan. </strong></p>\n</div>\n</div>\n</div>\n</div>\n
LOCATION:Online Teleconference - link will be sent once you register. RSVP Kenan Tyner-Smith ksmith@sscsb.org 434-572-6916
UID:e.845.17674
SEQUENCE:3
DTSTAMP:20260420T082744Z
URL:https://business.halifaxchamber.net/events/details/revive-opioid-overdose-and-naloxone-education-for-virginia-17674
END:VEVENT

END:VCALENDAR
