BEGIN:VCALENDAR
VERSION:2.0
PRODID:-//ChamberMaster//Event Calendar 2.0//EN
METHOD:PUBLISH
X-PUBLISHED-TTL:P3D
REFRESH-INTERVAL:P3D
CALSCALE:GREGORIAN
BEGIN:VEVENT
DTSTART:20200307T140000Z
DTEND:20200307T220000Z
X-MICROSOFT-CDO-ALLDAYEVENT:FALSE
SUMMARY:RFH Veterans Open House
DESCRIPTION:Who: Veterans\, friends\, families and patriots!\n\n\n\nWhat: Openhouse\, meet and greet. Veterans Outreach\n\n\n\nWhen: Saturday\, March 7th from 9am until 5pm.\n\n\n\nWhere: RFH Headquarters at Virginia International Raceway\n\n1025 Raceplex Dr\, Alton\, VA 24520\n\n\n\nWhy: Helping get veterans and patriots together\, growing awareness and support for Racing For Heroes programs and expanding our area of impact.\n\n\n\nSpace is limited so please RSVP as soon as possible!
X-ALT-DESC;FMTTYPE=text/html:<span style="color:rgb(29\, 33\, 41)\; font-family:system-ui\,-apple-system\,system-ui\,.sfnstext-regular\,sans-serif\; font-size:14px">Who: Veterans\, friends\, families and patriots!</span><br />\n<br />\n<span style="color:rgb(29\, 33\, 41)\; font-family:system-ui\,-apple-system\,system-ui\,.sfnstext-regular\,sans-serif\; font-size:14px">What: Openhouse\, meet and greet. Veterans Outreach</span><br />\n<br />\n<span style="color:rgb(29\, 33\, 41)\; font-family:system-ui\,-apple-system\,system-ui\,.sfnstext-regular\,sans-serif\; font-size:14px">When: Saturday\, March 7th from 9am until 5pm.</span><br />\n<br />\n<span style="color:rgb(29\, 33\, 41)\; font-family:system-ui\,-apple-system\,system-ui\,.sfnstext-regular\,sans-serif\; font-size:14px">Where: RFH Headquarters at Virginia International Raceway</span><br />\n<span style="color:rgb(29\, 33\, 41)\; font-family:system-ui\,-apple-system\,system-ui\,.sfnstext-regular\,sans-serif\; font-size:14px">1025 Raceplex Dr\, Alton\, VA 24520</span><br />\n<br />\n<span style="color:rgb(29\, 33\, 41)\; font-family:system-ui\,-apple-system\,system-ui\,.sfnstext-regular\,sans-serif\; font-size:14px">Why: Helping get veterans and patriots together\, growing awareness and support for Racing For Heroes programs and expanding our area of impact.</span><br />\n<br />\n<span style="color:rgb(29\, 33\, 41)\; font-family:system-ui\,-apple-system\,system-ui\,.sfnstext-regular\,sans-serif\; font-size:14px">Space is limited so please RSVP as soon as possible!</span>
LOCATION:1025 Raceplex Drive (19.15 mi) Alton\, Virginia 24520
UID:e.845.17506
SEQUENCE:3
DTSTAMP:20260420T150012Z
URL:https://business.halifaxchamber.net/events/details/rfh-veterans-open-house-17506
END:VEVENT

END:VCALENDAR
