BEGIN:VCALENDAR
VERSION:2.0
PRODID:-//ChamberMaster//Event Calendar 2.0//EN
METHOD:PUBLISH
X-PUBLISHED-TTL:P3D
REFRESH-INTERVAL:P3D
CALSCALE:GREGORIAN
BEGIN:VEVENT
DTSTART;VALUE=DATE:20170512
DTEND;VALUE=DATE:20170515
TRANSP:TRANSPARENT
X-MICROSOFT-CDO-ALLDAYEVENT:TRUE
SUMMARY:Ride for Hope
DESCRIPTION:The 8th Annual Ride for Hope is quickly approaching. May 13 with primitive camping available May 12 and 13. Dinner will be served at approximately 5:00 pm Saturday night. A small auction will be held after dinner and Matt Boswell and the HBB will begin around 8. Primitive camping is available all weekend and a cowboy church service is available to everyone Sunday morning before heading out.  Riders $25 donation and non-riders $15 donation. If you would like to sponsor\, contact the Halifax County Cancer Association.  Watch the Halifax County Cancer Association website at www.hccahope.org for a link to register online.  Online registration will be available until noon May 11 and participants can register the day of the event. \n\n\n\nMark going on the Facebook event to stay up to date on the event.
X-ALT-DESC;FMTTYPE=text/html:<span style="font-size:14px\;"><span style="color: rgb(0\, 0\, 0)\;">The 8th Annual Ride for Hope is quickly approaching.&nbsp\;May 13 with primitive camping available&nbsp\;May 12 and 13. Dinner will be served at approximately&nbsp\;5:00 pm Saturday night. A small auction will be held after dinner and Matt Boswell and the HBB will begin around 8. Primitive camping is available all weekend and a cowboy church service is available to everyone Sunday morning before heading out.&nbsp\; Riders $25 donation and non-riders $15 donation. If you would like to sponsor\,&nbsp\;contact the Halifax County Cancer Association.&nbsp\; Watch the Halifax County Cancer Association website at&nbsp\;</span><span style="font-family:arial\;"><a href="http://www.hccahope.org/" style="font-family: -webkit-standard\;">www.hccahope.org</a></span><span style="color: rgb(0\, 0\, 0)\;">&nbsp\;for a link to register online.&nbsp\; Online registration will be available until noon May 11 and participants can register the day of the event.&nbsp\;</span><br />\n<br />\nMark going on the <a href="https://www.facebook.com/events/1276099525810941/">Facebook event</a></span><span style="font-size:14px\;">&nbsp\;to stay up to date on the event.</span><br />\n<br />\n<br />\n&nbsp\;
LOCATION:1168 Cluster Springs Road South Boston\, VA
UID:e.845.5833
SEQUENCE:3
DTSTAMP:20260423T005818Z
URL:https://business.halifaxchamber.net/events/details/ride-for-hope-5833
END:VEVENT

END:VCALENDAR
