BEGIN:VCALENDAR
VERSION:2.0
PRODID:-//ChamberMaster//Event Calendar 2.0//EN
METHOD:PUBLISH
X-PUBLISHED-TTL:P3D
REFRESH-INTERVAL:P3D
CALSCALE:GREGORIAN
BEGIN:VEVENT
DTSTART:20190921T220000Z
DTEND:20190921T220000Z
X-MICROSOFT-CDO-ALLDAYEVENT:FALSE
SUMMARY:River Blues at 209 Main
DESCRIPTION:River Blues at 209 Main with Burn the Batteau.\n\nGates open at 5:30 pm\n\nCocktails available by Springfield Distillery\n\nFood Trucks on site: Nana Karen's & Wooded's Pulled Pork\n\nIndoor farmers market open for some evening shopping\, cornhole game\, kids activities and a mist tent for keeping cool!\n\nCoolers checked at gate - no glass containers - ID required\n\n\n\nFor more information contact 434.476.2343
X-ALT-DESC;FMTTYPE=text/html:<strong>River Blues at 209 Main with Burn the Batteau.</strong><br />\nGates open at 5:30 pm<br />\nCocktails available by Springfield Distillery<br />\nFood Trucks on site: Nana Karen&#39\;s &amp\; Wooded&#39\;s Pulled Pork<br />\nIndoor farmers market open for some evening shopping\, cornhole game\, kids activities and a mist tent for keeping cool!<br />\nCoolers checked at gate - no glass containers - ID required<br />\n<br />\nFor more information contact 434.476.2343
LOCATION:Halifax Farmers Market 209 South Main Street Halifax\, VA 24558
UID:e.845.13274
SEQUENCE:3
DTSTAMP:20260420T233835Z
URL:https://business.halifaxchamber.net/events/details/river-blues-at-209-main-13274
END:VEVENT

END:VCALENDAR
