BEGIN:VCALENDAR
VERSION:2.0
PRODID:-//ChamberMaster//Event Calendar 2.0//EN
METHOD:PUBLISH
X-PUBLISHED-TTL:P3D
REFRESH-INTERVAL:P3D
CALSCALE:GREGORIAN
BEGIN:VEVENT
DTSTART:20190612T110000Z
DTEND:20190612T170000Z
X-MICROSOFT-CDO-ALLDAYEVENT:FALSE
SUMMARY:Robotics Camp at The Y
DESCRIPTION:The YMCA of South Boston will be hosting Robotics Camp this summer! Using Sony KOOV technology kits\, kids will visualize\, build\, and program their own robots! They will program their robots to do a variety of different actions using ultrasonic sound\, light\, and touch sensors. Snacks will be provided.\n\n\n\nMember Rate: $75     Regular Rate: $115\n\n\n\nTo register for these camps\, please visit Member Services at the YMCA of South Boston/Halifax County or call (434)572-8909
X-ALT-DESC;FMTTYPE=text/html:The YMCA of South Boston will be hosting Robotics Camp this summer! Using Sony KOOV technology kits\, kids will visualize\, build\, and program their own robots! They will program their robots to do a variety of different actions using ultrasonic sound\, light\, and touch sensors. Snacks will be provided.<br />\n<br />\nMember Rate: $75&nbsp\;&nbsp\; &nbsp\; Regular Rate: $115<br />\n<br />\nTo register for these camps\, please visit Member Services at the YMCA of South Boston/Halifax County or call (434)572-8909
LOCATION:YMCA of South Boston/Halifax County 650 Hamilton Blvd South Boston\, VA 24592
UID:e.845.13101
SEQUENCE:3
DTSTAMP:20260421T044216Z
URL:https://business.halifaxchamber.net/events/details/robotics-camp-at-the-y-06-12-2019-13101
END:VEVENT

END:VCALENDAR
