BEGIN:VCALENDAR
VERSION:2.0
PRODID:-//ChamberMaster//Event Calendar 2.0//EN
METHOD:PUBLISH
X-PUBLISHED-TTL:P3D
REFRESH-INTERVAL:P3D
CALSCALE:GREGORIAN
BEGIN:VEVENT
DTSTART;VALUE=DATE:20190816
DTEND;VALUE=DATE:20190817
TRANSP:TRANSPARENT
X-MICROSOFT-CDO-ALLDAYEVENT:TRUE
SUMMARY:Rogers Heating & Cooling - HVAC Job Fair
DESCRIPTION:Join Rogers Heating & Cooling for a HVAC Job Fair.\n\nLooking to fill positions in the following areas: \n\n	HVAC Installation\n	HVAC Service\n	Maintenance\n	Office\n	Management\n\nInterviews on-site. Come prepared with a copy of your resume. Dress for success.\n\nBenefit packages. Competitive wages. Advanced opportunities.\n\n\n\nQuestions call 434-575-7285
X-ALT-DESC;FMTTYPE=text/html:Join Rogers Heating &amp\; Cooling for a HVAC Job Fair.<br />\nLooking to fill positions in the following areas:&nbsp\;\n<ul>\n	<li>HVAC Installation</li>\n	<li>HVAC Service</li>\n	<li>Maintenance</li>\n	<li>Office</li>\n	<li>Management</li>\n</ul>\nInterviews on-site. Come prepared with a copy of your resume. Dress for success.<br />\nBenefit packages. Competitive wages. Advanced opportunities.<br />\n<br />\nQuestions call 434-575-7285
LOCATION:515 Broad Street South Boston\, VA 24592
UID:e.845.13258
SEQUENCE:3
DTSTAMP:20260421T012243Z
URL:https://business.halifaxchamber.net/events/details/rogers-heating-cooling-hvac-job-fair-13258
END:VEVENT

END:VCALENDAR
