BEGIN:VCALENDAR
VERSION:2.0
PRODID:-//ChamberMaster//Event Calendar 2.0//EN
METHOD:PUBLISH
X-PUBLISHED-TTL:P3D
REFRESH-INTERVAL:P3D
CALSCALE:GREGORIAN
BEGIN:VEVENT
DTSTART:20180322T150000Z
DTEND:20180322T160000Z
X-MICROSOFT-CDO-ALLDAYEVENT:FALSE
SUMMARY:Rogers Heating & Cooling Ribbon Cutting
DESCRIPTION:Please join us for a ribbon cutting and open house at Rogers Heating & Cooling! Help us welcome them to their new office!
X-ALT-DESC;FMTTYPE=text/html:Please join us for a ribbon cutting and open house at Rogers Heating &amp\; Cooling! Help us welcome them to their new office!
LOCATION:Rogers Heating & Cooling 515 Broad Street South Boston\, VA 24592
UID:e.845.7240
SEQUENCE:3
DTSTAMP:20260422T070432Z
URL:https://business.halifaxchamber.net/events/details/rogers-heating-cooling-ribbon-cutting-7240
END:VEVENT

END:VCALENDAR
