BEGIN:VCALENDAR
VERSION:2.0
PRODID:-//ChamberMaster//Event Calendar 2.0//EN
METHOD:PUBLISH
X-PUBLISHED-TTL:P3D
REFRESH-INTERVAL:P3D
CALSCALE:GREGORIAN
BEGIN:VEVENT
DTSTART:20200304T140000Z
DTEND:20200304T170000Z
X-MICROSOFT-CDO-ALLDAYEVENT:FALSE
SUMMARY:RTP job Fair
DESCRIPTION:RTP Company\, a global compounder of custom engineered thermoplastics\, is currently seeking employees for \n\nthe following positions: \n\nMaintenance Mechanic \n\nAssist with maintaining parts inventory\, organize the shop\, \n\ninspect and diagnose equipment malfunctions and breakdowns\, and \n\nperform repairs. \n\nQA Lab Technician \n\nWork with lab equipment to perform plastic molding and testing to ensure \n\nquality products. \n\nWarehouse Associate \n\nLoad and unload trucks\, label stock and non-stock materials\, and process in-bound and outbound freight. \n\nMachine Operator \n\nSet up and operate thermoplastic extrusion equipment. \n\nWhy RTP Company? \n\nAt RTP Company\, you can secure a good paying job\, learn something \n\nnew\, nd work you enjoy\, and explore growth opportunities!
X-ALT-DESC;FMTTYPE=text/html:<div class="page" title="Page 1">\n<div class="section">\n<div class="layoutArea">\n<div class="column">\n<p><span style="font-size: 11.000000pt\; font-family: 'Helvetica'">RTP Company\, a global compounder of custom engineered thermoplastics\, is currently seeking employees for </span></p>\n\n<p><span style="font-size: 11.000000pt\; font-family: 'Helvetica'">the following positions: </span></p>\n\n<p><span style="color:#006400\;"><span style="font-size: 11pt\; font-family: Helvetica\; font-weight: 700\;">Maintenance Mechanic </span></span></p>\n\n<p><span style="font-size: 11.000000pt\; font-family: 'Helvetica'">Assist with maintaining parts inventory\, organize the shop\, </span></p>\n\n<p><span style="font-size: 11.000000pt\; font-family: 'Helvetica'">inspect and diagnose equipment malfunctions and breakdowns\, and </span></p>\n\n<p><span style="font-size: 11.000000pt\; font-family: 'Helvetica'">perform repairs. </span></p>\n\n<p><span style="color:#006400\;"><span style="font-size: 11pt\; font-family: Helvetica\; font-weight: 700\;">QA Lab Technician </span></span></p>\n\n<p><span style="font-size: 11.000000pt\; font-family: 'Helvetica'">Work with lab equipment to perform plastic molding and testing to ensure </span></p>\n\n<p><span style="font-size: 11.000000pt\; font-family: 'Helvetica'">quality products. </span></p>\n\n<p><span style="color:#006400\;"><span style="font-size: 11pt\; font-family: Helvetica\; font-weight: 700\;">Warehouse Associate </span></span></p>\n\n<p><span style="font-size: 11.000000pt\; font-family: 'Helvetica'">Load and unload trucks\, label stock and non-stock materials\, and process in-bound and outbound freight. </span></p>\n\n<p><span style="color:#006400\;"><span style="font-size: 11pt\; font-family: Helvetica\; font-weight: 700\;">Machine Operator </span></span></p>\n\n<p><span style="font-size: 11.000000pt\; font-family: 'Helvetica'">Set up and operate thermoplastic extrusion equipment. </span></p>\n\n<p><span style="color:#006400\;"><span style="font-size: 11pt\; font-family: Helvetica\; font-weight: 700\;">Why RTP Company? </span></span></p>\n\n<p><span style="font-size: 11.000000pt\; font-family: 'Helvetica'">At RTP Company\, you can secure a good paying job\, learn something </span></p>\n\n<p><span style="font-size: 11.000000pt\; font-family: 'Helvetica'">new\, nd work you enjoy\, and explore growth opportunities! </span></p>\n</div>\n</div>\n</div>\n</div>\n
LOCATION:RTP Company 1150 Green's Folly Road South Boston\, VA
UID:e.845.17514
SEQUENCE:3
DTSTAMP:20260420T131825Z
URL:https://business.halifaxchamber.net/events/details/rtp-job-fair-17514
END:VEVENT

END:VCALENDAR
